BEGIN:VCALENDAR
VERSION:2.0
PRODID:-//Supermercado La Fuente Fun - ECPv6.15.20//NONSGML v1.0//EN
CALSCALE:GREGORIAN
METHOD:PUBLISH
X-ORIGINAL-URL:https://supermercadolafuentefun.com
X-WR-CALDESC:Eventos para Supermercado La Fuente Fun
REFRESH-INTERVAL;VALUE=DURATION:PT1H
X-Robots-Tag:noindex
X-PUBLISHED-TTL:PT1H
BEGIN:VTIMEZONE
TZID:America/Halifax
BEGIN:DAYLIGHT
TZOFFSETFROM:-0400
TZOFFSETTO:-0300
TZNAME:ADT
DTSTART:20150308T060000
END:DAYLIGHT
BEGIN:STANDARD
TZOFFSETFROM:-0300
TZOFFSETTO:-0400
TZNAME:AST
DTSTART:20151101T050000
END:STANDARD
BEGIN:DAYLIGHT
TZOFFSETFROM:-0400
TZOFFSETTO:-0300
TZNAME:ADT
DTSTART:20160313T060000
END:DAYLIGHT
BEGIN:STANDARD
TZOFFSETFROM:-0300
TZOFFSETTO:-0400
TZNAME:AST
DTSTART:20161106T050000
END:STANDARD
BEGIN:DAYLIGHT
TZOFFSETFROM:-0400
TZOFFSETTO:-0300
TZNAME:ADT
DTSTART:20170312T060000
END:DAYLIGHT
BEGIN:STANDARD
TZOFFSETFROM:-0300
TZOFFSETTO:-0400
TZNAME:AST
DTSTART:20171105T050000
END:STANDARD
END:VTIMEZONE
BEGIN:VEVENT
DTSTART;VALUE=DATE:20160725
DTEND;VALUE=DATE:20160731
DTSTAMP:20260423T123116
CREATED:20160718T183319Z
LAST-MODIFIED:20160718T183319Z
UID:366-1469404800-1469923199@supermercadolafuentefun.com
SUMMARY:Degustación de Café Serrano
DESCRIPTION:
URL:https://supermercadolafuentefun.com/actividad/degustacion-de-cafe-serrano/
END:VEVENT
BEGIN:VEVENT
DTSTART;TZID=America/Halifax:20160723T110000
DTEND;TZID=America/Halifax:20160723T130000
DTSTAMP:20260423T123116
CREATED:20160719T200026Z
LAST-MODIFIED:20160719T200026Z
UID:373-1469271600-1469278800@supermercadolafuentefun.com
SUMMARY:Degustación de La Lechera de Nestle
DESCRIPTION:
URL:https://supermercadolafuentefun.com/actividad/degustacion-de-la-lechera-de-nestle-2/
ATTACH;FMTTYPE=image/png:https://supermercadolafuentefun.com/wp-content/uploads/2016/07/lalecheranestle-supermercadoLaFuente.png
END:VEVENT
BEGIN:VEVENT
DTSTART;TZID=America/Halifax:20160721T170000
DTEND;TZID=America/Halifax:20160722T190000
DTSTAMP:20260423T123116
CREATED:20160719T195952Z
LAST-MODIFIED:20160719T195952Z
UID:371-1469120400-1469214000@supermercadolafuentefun.com
SUMMARY:Degustación de La Lechera de Nestle
DESCRIPTION:
URL:https://supermercadolafuentefun.com/actividad/degustacion-de-la-lechera-de-nestle/
ATTACH;FMTTYPE=image/png:https://supermercadolafuentefun.com/wp-content/uploads/2016/07/lalecheranestle-supermercadoLaFuente.png
END:VEVENT
BEGIN:VEVENT
DTSTART;TZID=America/Halifax:20160718T093000
DTEND;TZID=America/Halifax:20160918T190000
DTSTAMP:20260423T123116
CREATED:20160718T183235Z
LAST-MODIFIED:20160718T183235Z
UID:365-1468834200-1474225200@supermercadolafuentefun.com
SUMMARY:Degustación de Sopa Kinsu
DESCRIPTION:Lunes – Viernes de 9:30AM a 12 PM y de 3:00PM a 7:00PM \nSábado de 9:30AM a 1:30PM
URL:https://supermercadolafuentefun.com/actividad/degustacion-de-sopa-kinsu/
END:VEVENT
BEGIN:VEVENT
DTSTART;TZID=America/Halifax:20160618T170000
DTEND;TZID=America/Halifax:20160618T190000
DTSTAMP:20260423T123116
CREATED:20160601T175815Z
LAST-MODIFIED:20160601T175815Z
UID:309-1466269200-1466276400@supermercadolafuentefun.com
SUMMARY:Degustación de Champagne André
DESCRIPTION:
URL:https://supermercadolafuentefun.com/actividad/degustacion-de-champagne-andre/
ATTACH;FMTTYPE=image/png:https://supermercadolafuentefun.com/wp-content/uploads/2016/06/Champagne-Andre-degustacion.png
END:VEVENT
BEGIN:VEVENT
DTSTART;TZID=America/Halifax:20160617T160000
DTEND;TZID=America/Halifax:20160617T170000
DTSTAMP:20260423T123116
CREATED:20160601T175144Z
LAST-MODIFIED:20160601T175144Z
UID:307-1466179200-1466182800@supermercadolafuentefun.com
SUMMARY:Degustación de Pan Pepín
DESCRIPTION:
URL:https://supermercadolafuentefun.com/actividad/degustacion-de-pan-pepin/
ATTACH;FMTTYPE=image/png:https://supermercadolafuentefun.com/wp-content/uploads/2016/06/pan-pepin-degustacion.png
END:VEVENT
BEGIN:VEVENT
DTSTART;VALUE=DATE:20160615
DTEND;VALUE=DATE:20160616
DTSTAMP:20260423T123116
CREATED:20160610T202107Z
LAST-MODIFIED:20160610T202107Z
UID:315-1465948800-1466035199@supermercadolafuentefun.com
SUMMARY:Actividad Promo Induveca 15 del 15
DESCRIPTION:
URL:https://supermercadolafuentefun.com/actividad/actividad-promo-induveca-15-del-15/
ATTACH;FMTTYPE=image/jpeg:https://supermercadolafuentefun.com/wp-content/uploads/2016/06/Arte-15-del-15.jpg
END:VEVENT
BEGIN:VEVENT
DTSTART;TZID=America/Halifax:20160602T170000
DTEND;TZID=America/Halifax:20160602T190000
DTSTAMP:20260423T123116
CREATED:20160601T195241Z
LAST-MODIFIED:20160602T144948Z
UID:311-1464886800-1464894000@supermercadolafuentefun.com
SUMMARY:Degustación de  Incarna MonteFrío (salamis y jamones)
DESCRIPTION:
URL:https://supermercadolafuentefun.com/actividad/degustacion-de-incarna-montefrio-salamis-y-jamones/
ATTACH;FMTTYPE=image/png:https://supermercadolafuentefun.com/wp-content/uploads/2016/06/incarna.png
END:VEVENT
BEGIN:VEVENT
DTSTART;TZID=America/Halifax:20160601T153000
DTEND;TZID=America/Halifax:20160601T180000
DTSTAMP:20260423T123116
CREATED:20160601T174929Z
LAST-MODIFIED:20160601T195011Z
UID:305-1464795000-1464804000@supermercadolafuentefun.com
SUMMARY:Degustación de Yoka yogurt de Induveca
DESCRIPTION:
URL:https://supermercadolafuentefun.com/actividad/yoka-yogurt-de-induveca/
ATTACH;FMTTYPE=image/png:https://supermercadolafuentefun.com/wp-content/uploads/2016/06/yokainduveca.png
END:VEVENT
END:VCALENDAR